BEGIN:VCALENDAR
VERSION:2.0
PRODID:-//Northwest Iowa Cursillo - ECPv6.15.20//NONSGML v1.0//EN
CALSCALE:GREGORIAN
METHOD:PUBLISH
X-ORIGINAL-URL:https://nwiacursillo.com
X-WR-CALDESC:Events for Northwest Iowa Cursillo
REFRESH-INTERVAL;VALUE=DURATION:PT1H
X-Robots-Tag:noindex
X-PUBLISHED-TTL:PT1H
BEGIN:VTIMEZONE
TZID:UTC
BEGIN:STANDARD
TZOFFSETFROM:+0000
TZOFFSETTO:+0000
TZNAME:UTC
DTSTART:20240101T000000
END:STANDARD
END:VTIMEZONE
BEGIN:VEVENT
DTSTART;TZID=UTC:20260315T140000
DTEND;TZID=UTC:20260315T170000
DTSTAMP:20260421T133427
CREATED:20250317T163817Z
LAST-MODIFIED:20250317T163817Z
UID:1286-1773583200-1773594000@nwiacursillo.com
SUMMARY:Spring Cursillo Reunion
DESCRIPTION:
URL:https://nwiacursillo.com/event/spring-cursillo-reunion/
LOCATION:Swan Lake Retreat Center\, 45474 288th St\, Viborg\, 57070\, United States
END:VEVENT
BEGIN:VEVENT
DTSTART;TZID=UTC:20260226T190000
DTEND;TZID=UTC:20260301T170000
DTSTAMP:20260421T133427
CREATED:20250317T163723Z
LAST-MODIFIED:20250317T163723Z
UID:1284-1772132400-1772384400@nwiacursillo.com
SUMMARY:Women's Cursillo
DESCRIPTION:
URL:https://nwiacursillo.com/event/womens-cursillo/
LOCATION:Swan Lake Retreat Center\, 45474 288th St\, Viborg\, 57070\, United States
END:VEVENT
BEGIN:VEVENT
DTSTART;TZID=UTC:20260219T190000
DTEND;TZID=UTC:20260222T170000
DTSTAMP:20260421T133427
CREATED:20250317T163611Z
LAST-MODIFIED:20250317T163611Z
UID:1281-1771527600-1771779600@nwiacursillo.com
SUMMARY:Men's Cursillo
DESCRIPTION:
URL:https://nwiacursillo.com/event/mens-cursillo-2/
LOCATION:Swan Lake Retreat Center\, 45474 288th St\, Viborg\, 57070\, United States
END:VEVENT
BEGIN:VEVENT
DTSTART;TZID=UTC:20251012T140000
DTEND;TZID=UTC:20251012T160000
DTSTAMP:20260421T133427
CREATED:20250317T163527Z
LAST-MODIFIED:20250317T163527Z
UID:1279-1760277600-1760284800@nwiacursillo.com
SUMMARY:Couple's Cursillo Reunion
DESCRIPTION:
URL:https://nwiacursillo.com/event/couples-cursillo-reunion/
LOCATION:Swan Lake Retreat Center\, 45474 288th St\, Viborg\, 57070\, United States
END:VEVENT
BEGIN:VEVENT
DTSTART;TZID=UTC:20250925T190000
DTEND;TZID=UTC:20250928T170000
DTSTAMP:20260421T133427
CREATED:20250317T163330Z
LAST-MODIFIED:20250317T163627Z
UID:1277-1758826800-1759078800@nwiacursillo.com
SUMMARY:Couple's Cursillo
DESCRIPTION:
URL:https://nwiacursillo.com/event/couples-cursillo-weekend/
LOCATION:Swan Lake Retreat Center\, 45474 288th St\, Viborg\, 57070\, United States
END:VEVENT
BEGIN:VEVENT
DTSTART;TZID=UTC:20250227T190000
DTEND;TZID=UTC:20250302T160000
DTSTAMP:20260421T133427
CREATED:20240227T161147Z
LAST-MODIFIED:20240227T161147Z
UID:656-1740682800-1740931200@nwiacursillo.com
SUMMARY:Women's Cursillo Weekend
DESCRIPTION:
URL:https://nwiacursillo.com/event/womens-cursillo-weekend-2/
LOCATION:Swan Lake Retreat Center\, 45474 288th St\, Viborg\, 57070\, United States
END:VEVENT
BEGIN:VEVENT
DTSTART;TZID=UTC:20250220T190000
DTEND;TZID=UTC:20250223T190000
DTSTAMP:20260421T133427
CREATED:20240227T160859Z
LAST-MODIFIED:20240227T161054Z
UID:653-1740078000-1740337200@nwiacursillo.com
SUMMARY:Men's Cursillo Weekend
DESCRIPTION:
URL:https://nwiacursillo.com/event/mens-cursillo/
LOCATION:Swan Lake Retreat Center\, 45474 288th St\, Viborg\, 57070\, United States
END:VEVENT
END:VCALENDAR